BEGIN:VCALENDAR
VERSION:2.0
PRODID:-//Freiwillige Feuerwehr Untermaxfeld//NONSGML kigkonsult.se iCalcreator 2.41.92//
CALSCALE:GREGORIAN
METHOD:PUBLISH
UID:31636261-3164-4533-a363-323264376633
X-WR-CALNAME:iCagenda
X-WR-CALDESC:Event Management Extension for Joomla!
X-WR-RELCALID:3E26604A-50F4-4449-8B3E-E4F4932D05B5
X-WR-TIMEZONE:UTC
BEGIN:VTIMEZONE
TZID:UTC
END:VTIMEZONE
BEGIN:VEVENT
UID:65613839-6661-4630-b062-646537333566
DTSTAMP:20260421T003410Z
CATEGORIES:Sonderübungsstunden Leistungsprüfung
CLASS:PUBLIC
DESCRIPTION;ALTREP="CID:<FFFF__=0ABBE548DFE235B58f9e8a93d@coffeebean.com>":
 Termine für die Übungstage des Leistungsabzeichens Wasser:\nDiese sind am 
 :\nMo. 16.03.26Mi. 18.03.26Fr. 20.03.26Mo. 23.03.26Mi. 25.03.26Fr. 27.03.2
 6\nab jeweils 19:00 Uhr\nDie Abnahme fürs Leistungsabzeichen erfolgt dann 
 am Sa. 28.03.26 um 17:30 Uhr mit anschließendem gemütlichen Beisammensein.
 Für Essen und Trinken ist natürlich gesorgt.\nWir hoffen auf ein zahlreich
 es Erscheinen unserer aktiven sowie passiven Mitglieder!\nEure Vorstandsch
 aft
DTSTART:20260327T190000Z
DTEND:20260327T190000Z
GEO:+48.665066;+11.216711
LOCATION:Freiwillige Feuerwehr Untermaxfeld
ORGANIZER;CN=:mailto:termin@ffw-untermaxfeld.de
SEQUENCE:1
SUMMARY:Sonderübung - Leistungsabzeichen Wasser
TRANSP:OPAQUE
URL:https://www.ffw-untermaxfeld.de/index.php/component/icagenda/11-sonderu
 ebung-leistungsabzeichen-wasser/2026-03-27-19-00?Itemid=148
END:VEVENT
END:VCALENDAR
