BEGIN:VCALENDAR
VERSION:2.0
PRODID:-//Freiwillige Feuerwehr Untermaxfeld//NONSGML kigkonsult.se iCalcreator 2.41.92//
CALSCALE:GREGORIAN
METHOD:PUBLISH
UID:64666565-3161-4736-b634-386335613338
X-WR-CALNAME:iCagenda
X-WR-CALDESC:Event Management Extension for Joomla!
X-WR-RELCALID:3E26604A-50F4-4449-8B3E-E4F4932D05B5
X-WR-TIMEZONE:UTC
BEGIN:VTIMEZONE
TZID:UTC
END:VTIMEZONE
BEGIN:VEVENT
UID:36653065-3434-4835-b538-376235343839
DTSTAMP:20260424T144016Z
CATEGORIES:Mannschaftsübung/Atemschutz
CLASS:PUBLIC
DESCRIPTION;ALTREP="CID:<FFFF__=0ABBE548DFE235B58f9e8a93d@coffeebean.com>":
 Feuerwehrübung für die aktive Mannschaft und Atemschutz.\nÜbungsbeginn Som
 merzeit: 19:30 Uhr\nÜbungsbeginn Winterzeit: 19:00 Uhr
DTSTART:20260225T190000Z
DTEND:20260225T190000Z
GEO:+48.665066;+11.216711
LOCATION:Freiwillige Feuerwehr Untermaxfeld
ORGANIZER;CN=:mailto:termin@ffw-untermaxfeld.de
SEQUENCE:1
SUMMARY:Mannschaftsübung / Atemschutz
TRANSP:OPAQUE
URL:https://www.ffw-untermaxfeld.de/index.php/component/icagenda/13-mannsch
 aftsuebung-atemschutz/2026-02-25-19-00?Itemid=148
END:VEVENT
END:VCALENDAR
