BEGIN:VCALENDAR
VERSION:2.0
PRODID:-//Freiwillige Feuerwehr Untermaxfeld//NONSGML kigkonsult.se iCalcreator 2.41.92//
CALSCALE:GREGORIAN
METHOD:PUBLISH
UID:61623438-3039-4630-b331-613234643461
X-WR-CALNAME:iCagenda
X-WR-CALDESC:Event Management Extension for Joomla!
X-WR-RELCALID:3E26604A-50F4-4449-8B3E-E4F4932D05B5
X-WR-TIMEZONE:UTC
BEGIN:VTIMEZONE
TZID:UTC
END:VTIMEZONE
BEGIN:VEVENT
UID:63333032-3034-4165-b736-353334393165
DTSTAMP:20260421T050200Z
CATEGORIES:Übung Maschinisten / Gruppenführer und Gerätepflege
CLASS:PUBLIC
DESCRIPTION;ALTREP="CID:<FFFF__=0ABBE548DFE235B58f9e8a93d@coffeebean.com>":
 Gerätepflege und Übung Maschinisten.\nÜbungsbeginn: wird noch bekannt gege
 ben!!!
DTSTART:20240921T140000Z
DTEND:20240921T140000Z
GEO:+48.667007;+11.214524
LOCATION:Freiwillige Feuerwehr Untermaxfeld
ORGANIZER;CN=:mailto:termin@ffw-untermaxfeld.de
SEQUENCE:1
SUMMARY:Übung Maschinisten / Gerätepflege
TRANSP:OPAQUE
URL:https://www.ffw-untermaxfeld.de/index.php/component/icagenda/14-uebung-
 maschinisten-geraetepflege/2024-09-21-14-00?Itemid=148
END:VEVENT
END:VCALENDAR
