BEGIN:VCALENDAR
VERSION:2.0
PRODID:-//Freiwillige Feuerwehr Untermaxfeld//NONSGML kigkonsult.se iCalcreator 2.41.92//
CALSCALE:GREGORIAN
METHOD:PUBLISH
UID:30353063-6364-4239-b338-323930626566
X-WR-CALNAME:iCagenda
X-WR-CALDESC:Event Management Extension for Joomla!
X-WR-RELCALID:3E26604A-50F4-4449-8B3E-E4F4932D05B5
X-WR-TIMEZONE:UTC
BEGIN:VTIMEZONE
TZID:UTC
END:VTIMEZONE
BEGIN:VEVENT
UID:33346336-6666-4039-a162-353637643239
DTSTAMP:20260420T165239Z
CATEGORIES:Übung Maschinisten / Gruppenführer und Gerätepflege
CLASS:PUBLIC
DESCRIPTION;ALTREP="CID:<FFFF__=0ABBE548DFE235B58f9e8a93d@coffeebean.com>":
 Gerätepflege und Übung Maschinisten und Gruppenführer.\nÜbungsbeginn: 16:0
 0 Uhr
DTSTART:20260418T160000Z
DTEND:20260418T160000Z
GEO:+48.665066;+11.216711
LOCATION:Freiwillige Feuerwehr Untermaxfeld
ORGANIZER;CN=:mailto:termin@ffw-untermaxfeld.de
SEQUENCE:1
SUMMARY:Übung Maschinisten / Gruppenführer und Gerätepflege
TRANSP:OPAQUE
URL:https://www.ffw-untermaxfeld.de/index.php/component/icagenda/19-uebung-
 maschinisten-gruppenfuehrer-und-geraetepflege/2026-04-18-16-00?Itemid=148
END:VEVENT
END:VCALENDAR
