BEGIN:VCALENDAR
VERSION:2.0
PRODID:-//Freiwillige Feuerwehr Untermaxfeld//NONSGML kigkonsult.se iCalcreator 2.41.92//
CALSCALE:GREGORIAN
METHOD:PUBLISH
UID:38626335-6366-4363-a534-326234373633
X-WR-CALNAME:iCagenda
X-WR-CALDESC:Event Management Extension for Joomla!
X-WR-RELCALID:3E26604A-50F4-4449-8B3E-E4F4932D05B5
X-WR-TIMEZONE:UTC
BEGIN:VTIMEZONE
TZID:UTC
END:VTIMEZONE
BEGIN:VEVENT
UID:38346333-6136-4736-a265-333231666335
DTSTAMP:20260425T112705Z
CATEGORIES:First Responder
CLASS:PUBLIC
DESCRIPTION:
DTSTART:20251124T190000Z
DTEND:20251124T210000Z
GEO:+48.665066;+11.216711
LOCATION:Feuerwehrhaus Untermaxfeld
ORGANIZER;CN=:mailto:termin@ffw-untermaxfeld.de
SEQUENCE:1
SUMMARY:Einladung zum Infoabend: Die Notfalldose - Lebensretter im Ernstfal
 l!
TRANSP:OPAQUE
URL:https://www.ffw-untermaxfeld.de/index.php/component/icagenda/22-einladu
 ng-zum-infoabend-die-notfalldose-lebensretter-im-ernstfall?Itemid=148
END:VEVENT
END:VCALENDAR
