BEGIN:VCALENDAR
VERSION:2.0
PRODID:-//Freiwillige Feuerwehr Untermaxfeld//NONSGML kigkonsult.se iCalcreator 2.41.92//
CALSCALE:GREGORIAN
METHOD:PUBLISH
UID:39623035-3932-4530-b666-613963366634
X-WR-CALNAME:iCagenda
X-WR-CALDESC:Event Management Extension for Joomla!
X-WR-RELCALID:3E26604A-50F4-4449-8B3E-E4F4932D05B5
X-WR-TIMEZONE:UTC
BEGIN:VTIMEZONE
TZID:UTC
END:VTIMEZONE
BEGIN:VEVENT
UID:39303735-6466-4461-b061-393463663762
DTSTAMP:20260421T004222Z
CATEGORIES:Leistungsprüfung
CLASS:PUBLIC
DESCRIPTION;ALTREP="CID:<FFFF__=0ABBE548DFE235B58f9e8a93d@coffeebean.com>":
 Termine für die Übungstage des Leistungsabzeichens Wasser:\nDiese sind am 
 :\nMo. 16.03.26Mi. 18.03.26Fr. 20.03.26Mo. 23.03.26Mi. 25.03.26Fr. 27.03.2
 6\nab jeweils 19:00 Uhr\nDie Abnahme fürs Leistungsabzeichen erfolgt dann 
 am Sa. 28.03.26 um 17:30 Uhr mit anschließendem gemütlichen Beisammensein.
 Für Essen und Trinken ist natürlich gesorgt.\nWir hoffen auf ein zahlreich
 es Erscheinen unserer aktiven sowie passiven Mitglieder!\nEure Vorstandsch
 aft
DTSTART:20260328T173000Z
DTEND:20260328T230000Z
GEO:+48.665066;+11.216711
LOCATION:Freiwillige Feuerwehr Untermaxfeld
ORGANIZER;CN=:mailto:termin@ffw-untermaxfeld.de
SEQUENCE:1
SUMMARY:Leistungsprüfung Wasser
TRANSP:OPAQUE
URL:https://www.ffw-untermaxfeld.de/index.php/component/icagenda/6-leistung
 spruefung-wasser?Itemid=148
END:VEVENT
END:VCALENDAR
