BEGIN:VCALENDAR
VERSION:2.0
PRODID:-//Freiwillige Feuerwehr Untermaxfeld//NONSGML kigkonsult.se iCalcreator 2.41.92//
CALSCALE:GREGORIAN
METHOD:PUBLISH
UID:37363239-6633-4331-b936-616165343935
X-WR-CALNAME:iCagenda
X-WR-CALDESC:Event Management Extension for Joomla!
X-WR-RELCALID:3E26604A-50F4-4449-8B3E-E4F4932D05B5
X-WR-TIMEZONE:UTC
BEGIN:VTIMEZONE
TZID:UTC
END:VTIMEZONE
BEGIN:VEVENT
UID:30636439-3164-4134-a562-636132633362
DTSTAMP:20260420T150653Z
CATEGORIES:Atemschutzübung
CLASS:PUBLIC
DESCRIPTION;ALTREP="CID:<FFFF__=0ABBE548DFE235B58f9e8a93d@coffeebean.com>":
 Feuerwehrübung für den Atemschutz.\nÜbungsbeginn Sommerzeit: 19:30 Uhr\nÜb
 ungsbeginn Winterzeit: 19:00 Uhr
DTSTART:20260609T193000Z
DTEND:20260609T193000Z
GEO:+48.665066;+11.216711
LOCATION:Freiwillige Feuerwehr Untermaxfeld
ORGANIZER;CN=:mailto:termin@ffw-untermaxfeld.de
SEQUENCE:1
SUMMARY:Übung Atemschutz
TRANSP:OPAQUE
URL:https://www.ffw-untermaxfeld.de/index.php/ct-menu1-item3/ct-menu1-item4
 /17-uebung-gruppenfuehrer/2026-06-09-19-30
END:VEVENT
END:VCALENDAR
