BEGIN:VCALENDAR
VERSION:2.0
PRODID:-//Freiwillige Feuerwehr Untermaxfeld//NONSGML kigkonsult.se iCalcreator 2.41.92//
CALSCALE:GREGORIAN
METHOD:PUBLISH
UID:31363562-6534-4730-a437-656234646239
X-WR-CALNAME:iCagenda
X-WR-CALDESC:Event Management Extension for Joomla!
X-WR-RELCALID:3E26604A-50F4-4449-8B3E-E4F4932D05B5
X-WR-TIMEZONE:UTC
BEGIN:VTIMEZONE
TZID:UTC
END:VTIMEZONE
BEGIN:VEVENT
UID:39616334-3963-4338-b232-303661613531
DTSTAMP:20260420T150342Z
CATEGORIES:First Responder
CLASS:PUBLIC
DESCRIPTION;ALTREP="CID:<FFFF__=0ABBE548DFE235B58f9e8a93d@coffeebean.com>":
 Feuerwehrübung für die First Responder.\nÜbungsbeginn Sommerzeit: 19:30 Uh
 r\nÜbungsbeginn Winterzeit: 19:00 Uhr
DTSTART:20260619T193000Z
DTEND:20260619T193000Z
GEO:+48.665066;+11.216711
LOCATION:Freiwillige Feuerwehr Untermaxfeld
ORGANIZER;CN=:mailto:termin@ffw-untermaxfeld.de
SEQUENCE:1
SUMMARY:First Responder
TRANSP:OPAQUE
URL:https://www.ffw-untermaxfeld.de/index.php/ct-menu1-item3/ct-menu1-item4
 /20-first-responder/2026-06-19-19-30
END:VEVENT
END:VCALENDAR
