BEGIN:VCALENDAR
VERSION:2.0
PRODID:-//Freiwillige Feuerwehr Untermaxfeld//NONSGML kigkonsult.se iCalcreator 2.41.92//
CALSCALE:GREGORIAN
METHOD:PUBLISH
UID:63393530-3766-4764-b432-356261633238
X-WR-CALNAME:iCagenda
X-WR-CALDESC:Event Management Extension for Joomla!
X-WR-RELCALID:3E26604A-50F4-4449-8B3E-E4F4932D05B5
X-WR-TIMEZONE:UTC
BEGIN:VTIMEZONE
TZID:UTC
END:VTIMEZONE
BEGIN:VEVENT
UID:33366238-3338-4131-b133-336335303738
DTSTAMP:20260420T150818Z
CATEGORIES:Sonderübungsstunden Leistungsprüfung
CLASS:PUBLIC
DESCRIPTION;ALTREP="CID:<FFFF__=0ABBE548DFE235B58f9e8a93d@coffeebean.com>":
 Termine für die Übungstage des Leistungsabzeichens THL:\nDiese sind am :\n
 Mo. 22.06.26Mi. 24.06.26Fr. 26.06.26Mo. 29.06.26Mi. 01.07.26Fr. 03.07.26\n
 ab jeweils 19:00 Uhr\nDie Abnahme fürs Leistungsabzeichen erfolgt dann am 
 Sa. 04.07.26 um -- wird noch bekannt gegeben -- Uhr mit anschließendem gem
 ütlichen Beisammensein.Für Essen und Trinken ist natürlich gesorgt.\nWir h
 offen auf ein zahlreiches Erscheinen unserer aktiven sowie passiven Mitgli
 eder!\nEure Vorstandschaft
DTSTART:20260624T190000Z
DTEND:20260624T190000Z
GEO:+48.665066;+11.216711
LOCATION:Freiwillige Feuerwehr Untermaxfeld
ORGANIZER;CN=:mailto:termin@ffw-untermaxfeld.de
SEQUENCE:1
SUMMARY:Sonderübung - Leistungsabzeichen THL
TRANSP:OPAQUE
URL:https://www.ffw-untermaxfeld.de/index.php/ct-menu1-item3/ct-menu1-item4
 /5-sonderuebung-leistungsabzeichen-thl/2026-06-24-19-00
END:VEVENT
END:VCALENDAR
